BEGIN:VCALENDAR
VERSION:2.0
PRODID:PHP
METHOD:PUBLISH
X-WR-CALNAME:Schedule
X-WR-TIMEZONE:Europe/Prague
BEGIN:VTIMEZONE
TZID:Europe/Prague
BEGIN:DAYLIGHT
TZOFFSETFROM:-0500
TZOFFSETTO:-0400
DTSTART:1403086496
RRULE:FREQ=YEARLY;BYMONTH=3;BYDAY=2SU
TZNAME:EDT
END:DAYLIGHT
BEGIN:STANDARD
TZOFFSETFROM:-0400
TZOFFSETTO:-0500
DTSTART:1403086496
RRULE:FREQ=YEARLY;BYMONTH=11;BYDAY=1SU
TZNAME:EST
END:STANDARD
END:VTIMEZONE
BEGIN:VEVENT
DTSTART;TZID=Europe/Prague:20260426T000000
DTEND:20260426T235959
DTSTAMP:20260421T101429Z
LOCATION:obec Vysoká\, poblíž domu Bosyně čp.49
DESCRIPTION: 
Popis závodu: Zálesácký závod zdatnosti (ZZZ) je soutěž družstev zahrnující běh v přírodním prostředí a dále odborně-technickou zdatnost v přírodě\, poznávací činnosti a teoretické vědomosti. Závod se koná na cca 4 - 8 km dlouhém terénním okruhu (mladší žactvo s doprovodem dospělého)\, kde tříčlenné hlídky plní různé úkoly týkající se tělesné zdatnosti\, tábornických dovedností a všeobecných znalostí. Běží se na čas. Některé úkoly (disciplíny) mohou být mimo okruh a běžecký čas. K dosaženému času se za chyby u všech disciplín připočítávají časové přirážky. Soutěž je pro kategorie staršího žactva a dorostu postupová\, končí přeborem ČOS.
Technická ustanovení: 
·        Z každé účastnící se T. J. přijedou se závodníky 2 dospělé osoby\, z toho jedna bude za své závodníky odpovídat (mimo dobu\, kdy budou na trase závodu)\, druhá může být využita jako rozhodčí. Za závodníky na trase závodu odpovídá pořadatel\, u mladšího žactva doprovod. 
        Za každou jednotu se může do župního ZZZ přihlásit maximálně 5 hlídek v každé kategorii (tj. 3 x 5). Hlídky mohou být smíšené\, účastnit se mohou dívky i chlapci nebo jejich kombinace. 
·        Případně nevyužití dospělí se nesmí pohybovat na trase závodu. 
·        Za zdravotní stav závodníků odpovídají rodiče. 
 
·        Všichni účastníci jsou pojištěni v rámci úrazového pojištění ČOS 
 
SUMMARY:ZZZ župní přebor
UID:26069
SEQUENCE:0
END:VEVENT
END:VCALENDAR
