BEGIN:VCALENDAR
VERSION:2.0
PRODID:PHP
METHOD:PUBLISH
X-WR-CALNAME:Schedule
X-WR-TIMEZONE:Europe/Prague
BEGIN:VTIMEZONE
TZID:Europe/Prague
BEGIN:DAYLIGHT
TZOFFSETFROM:-0500
TZOFFSETTO:-0400
DTSTART:1403086496
RRULE:FREQ=YEARLY;BYMONTH=3;BYDAY=2SU
TZNAME:EDT
END:DAYLIGHT
BEGIN:STANDARD
TZOFFSETFROM:-0400
TZOFFSETTO:-0500
DTSTART:1403086496
RRULE:FREQ=YEARLY;BYMONTH=11;BYDAY=1SU
TZNAME:EST
END:STANDARD
END:VTIMEZONE
BEGIN:VEVENT
DTSTART;TZID=Europe/Prague:20210930T000000
DTEND:20210930T235959
DTSTAMP:20260426T030950Z
LOCATION:Fügnerova 263\, 252 28 Černošice
DESCRIPTION:Sportovní akce určená pro předškoláky z MŠ Karlická. Děti soutěžily v 5 disciplínách - GÉPARDÍ SPRINT (běh na 50 m - rychlost)\, ŽABÍ SKOK (skok do dálky z místa - obratnost a síla odrazu)\, LACHTANÍ HOD (hod do koše - přesnost)\, KOŃSKÝ KOP (kop na bránu - přesnost a síla kopu)\, OPIČÍ DRÁHA (kutálení míčku hokejkou mezi kuželi - obratnost). Dále si děti mohly vyzkoušet ŽIRAFÍ CHŮZI (chůze na chůdách)\, PAVOUČÍ VLÁKNO (namotávání pavouků na tužku - jemná motorika)\, PŠTROSÍ HLAVA V PÍSKU (cvičení na protažení - flexibilita)\, JEŠTĚRČÍ LEZENÍ  (přelezení dřevěné lezecké stěny - obratnost\, flexibilita). 
Na konci vyhlášení vítězů - medaile a odměna\, odměněni byly i ostatní děti.
SUMMARY:Zvířecí pětiboj
UID:3511
SEQUENCE:0
END:VEVENT
END:VCALENDAR
