BEGIN:VCALENDAR
VERSION:2.0
PRODID:PHP
METHOD:PUBLISH
X-WR-CALNAME:Schedule
X-WR-TIMEZONE:Europe/Prague
BEGIN:VTIMEZONE
TZID:Europe/Prague
BEGIN:DAYLIGHT
TZOFFSETFROM:-0500
TZOFFSETTO:-0400
DTSTART:1403086496
RRULE:FREQ=YEARLY;BYMONTH=3;BYDAY=2SU
TZNAME:EDT
END:DAYLIGHT
BEGIN:STANDARD
TZOFFSETFROM:-0400
TZOFFSETTO:-0500
DTSTART:1403086496
RRULE:FREQ=YEARLY;BYMONTH=11;BYDAY=1SU
TZNAME:EST
END:STANDARD
END:VTIMEZONE
BEGIN:VEVENT
DTSTART;TZID=Europe/Prague:20260425T000000
DTEND:20260425T235959
DTSTAMP:20260422T214347Z
LOCATION:sokolovna Příbram
DESCRIPTION:Přijďtě porovnat síly na župní přebor všestrannosti pořádaný naší jednotou. Souteží se ve všech kategoriích od nejmladšího žactva po muže a ženy.
SUMMARY:Župní přebor všestrannosti 2026 v Příbrami
UID:26635
SEQUENCE:0
END:VEVENT
END:VCALENDAR
