BEGIN:VCALENDAR
VERSION:2.0
PRODID:PHP
METHOD:PUBLISH
X-WR-CALNAME:Schedule
X-WR-TIMEZONE:Europe/Prague
BEGIN:VTIMEZONE
TZID:Europe/Prague
BEGIN:DAYLIGHT
TZOFFSETFROM:-0500
TZOFFSETTO:-0400
DTSTART:1403086496
RRULE:FREQ=YEARLY;BYMONTH=3;BYDAY=2SU
TZNAME:EDT
END:DAYLIGHT
BEGIN:STANDARD
TZOFFSETFROM:-0400
TZOFFSETTO:-0500
DTSTART:1403086496
RRULE:FREQ=YEARLY;BYMONTH=11;BYDAY=1SU
TZNAME:EST
END:STANDARD
END:VTIMEZONE
BEGIN:VEVENT
DTSTART;TZID=Europe/Prague:20260425T000000
DTEND:20260425T235959
DTSTAMP:20260422T221851Z
LOCATION:Bělisko\, Pod Lipami\, Vochtánka\, Modlivý důl - Potštejn
DESCRIPTION:ZZZ je závod\, který se koná v přírodním prostsředí\, kde tříčlenná družstva plní úkoly týkající se tělesné zdatnosti\, tábornických dovedností a všeobecných znalostí. Přílad disciplín - hod na cíl\, zdolávání přírodních překážek\, uzlování\, znalosti o Sikole\, znalosti ze zdravovědy\, znalosti přírodnin\, práce s ohněm ad.
SUMMARY:Zálesácký závod zdatnost 2026
UID:26514
SEQUENCE:0
END:VEVENT
END:VCALENDAR
