BEGIN:VCALENDAR
VERSION:2.0
PRODID:PHP
METHOD:PUBLISH
X-WR-CALNAME:Schedule
X-WR-TIMEZONE:Europe/Prague
BEGIN:VTIMEZONE
TZID:Europe/Prague
BEGIN:DAYLIGHT
TZOFFSETFROM:-0500
TZOFFSETTO:-0400
DTSTART:1403086496
RRULE:FREQ=YEARLY;BYMONTH=3;BYDAY=2SU
TZNAME:EDT
END:DAYLIGHT
BEGIN:STANDARD
TZOFFSETFROM:-0400
TZOFFSETTO:-0500
DTSTART:1403086496
RRULE:FREQ=YEARLY;BYMONTH=11;BYDAY=1SU
TZNAME:EST
END:STANDARD
END:VTIMEZONE
BEGIN:VEVENT
DTSTART;TZID=Europe/Prague:20260802T000000
DTEND:20260815T235959
DTSTAMP:20260420T065104Z
LOCATION:Stanová základna Hoštejn
DESCRIPTION:Tábor plný adrenalinu a zábavy pro děti 9-17 let (max. 35 dětí)
Dva týdny plné soutěžení\, sportovních aktivit\, vodních radovánek a velkou kupu přátelství.
Celou dobu tábor provází celotáborová hra na dané téma\, která vyústí poslední den před odjezdem.
 
Termín: 2. 8. – 15. 8. 2026
Místo: tábořiště Hoštejn
 
Více informací naleznete na Tábory | TJ Sokol Nová Bělá
SUMMARY:Letní stanový tábor Hoštejn
UID:26465
SEQUENCE:0
END:VEVENT
END:VCALENDAR
