BEGIN:VCALENDAR
VERSION:2.0
PRODID:PHP
METHOD:PUBLISH
X-WR-CALNAME:Schedule
X-WR-TIMEZONE:Europe/Prague
BEGIN:VTIMEZONE
TZID:Europe/Prague
BEGIN:DAYLIGHT
TZOFFSETFROM:-0500
TZOFFSETTO:-0400
DTSTART:1403086496
RRULE:FREQ=YEARLY;BYMONTH=3;BYDAY=2SU
TZNAME:EDT
END:DAYLIGHT
BEGIN:STANDARD
TZOFFSETFROM:-0400
TZOFFSETTO:-0500
DTSTART:1403086496
RRULE:FREQ=YEARLY;BYMONTH=11;BYDAY=1SU
TZNAME:EST
END:STANDARD
END:VTIMEZONE
BEGIN:VEVENT
DTSTART;TZID=Europe/Prague:20221028T000000
DTEND:20221028T235959
DTSTAMP:20260421T091252Z
LOCATION:Tyršův dům
DESCRIPTION:Obecné informace
Hlavní závod: Trasa vede po zpevněných cestách (převážně asfalt) Petřínských sadů a Zahrady Kinských. Kromě několika zajímavých míst se můžete těšit i na zajímavé stoupání s vrcholem pod Petřínskou rozhlednou.
Dětský závod: Ti nejmenší se mohou těšit na dětské závody\, které budou probíhat v parku Kampa. Podle věkových kategorií budou pro děti připraveny trasy na 500 nebo 800 metrů. Start a cíl dětských závodů bude umístěn přímo v zázemí na přilehlém parkovišti Tyršova domu.
V ceně startovného je finisherská medaile a tričko (Tričko je nutné objednat v rámci objednávky startovného). 
 
Délka tratí:hlavní 6\,9 kmdětský 0\,5 - 0\,8 km
SUMMARY:Sokolský běh republiky Praha
UID:7216
SEQUENCE:0
END:VEVENT
END:VCALENDAR
