BEGIN:VCALENDAR
VERSION:2.0
PRODID:PHP
METHOD:PUBLISH
X-WR-CALNAME:Schedule
X-WR-TIMEZONE:Europe/Prague
BEGIN:VTIMEZONE
TZID:Europe/Prague
BEGIN:DAYLIGHT
TZOFFSETFROM:-0500
TZOFFSETTO:-0400
DTSTART:1403086496
RRULE:FREQ=YEARLY;BYMONTH=3;BYDAY=2SU
TZNAME:EDT
END:DAYLIGHT
BEGIN:STANDARD
TZOFFSETFROM:-0400
TZOFFSETTO:-0500
DTSTART:1403086496
RRULE:FREQ=YEARLY;BYMONTH=11;BYDAY=1SU
TZNAME:EST
END:STANDARD
END:VTIMEZONE
BEGIN:VEVENT
DTSTART;TZID=Europe/Prague:20260228T000000
DTEND:20260228T235959
DTSTAMP:20260420T051357Z
LOCATION:sokolovna Příbram
DESCRIPTION:Přijďte si užít příjemný večer plný fantazie\, tance a zábavy. Začínáme ve 20:00 a hrát nám bude kapela Pepeto. 
SUMMARY:Šibřinky Fantasy Příbram
UID:26138
SEQUENCE:0
END:VEVENT
END:VCALENDAR
