BEGIN:VCALENDAR
VERSION:2.0
PRODID:PHP
METHOD:PUBLISH
X-WR-CALNAME:Schedule
X-WR-TIMEZONE:Europe/Prague
BEGIN:VTIMEZONE
TZID:Europe/Prague
BEGIN:DAYLIGHT
TZOFFSETFROM:-0500
TZOFFSETTO:-0400
DTSTART:1403086496
RRULE:FREQ=YEARLY;BYMONTH=3;BYDAY=2SU
TZNAME:EDT
END:DAYLIGHT
BEGIN:STANDARD
TZOFFSETFROM:-0400
TZOFFSETTO:-0500
DTSTART:1403086496
RRULE:FREQ=YEARLY;BYMONTH=11;BYDAY=1SU
TZNAME:EST
END:STANDARD
END:VTIMEZONE
BEGIN:VEVENT
DTSTART;TZID=Europe/Prague:20221022T000000
DTEND:20221022T235959
DTSTAMP:20260425T192645Z
LOCATION:Vamberk\, Sportovní hala\, Jůnova 63
DESCRIPTION:Zveme Vás naVýznamnou soutěž Odboru sportu ČOS v karate\,
Shotokan Cup Sokol Vamberk
Soutěž proběhne 22.10.2022 ve Sportovní hale města Vamberk.
PODROBNÉ PROPOZICE ZDE
SUMMARY:Shotokan Cup Sokol Vamberk – Významná soutěž OS v karate
UID:6865
SEQUENCE:0
END:VEVENT
END:VCALENDAR
