BEGIN:VCALENDAR
VERSION:2.0
PRODID:PHP
METHOD:PUBLISH
X-WR-CALNAME:Schedule
X-WR-TIMEZONE:Europe/Prague
BEGIN:VTIMEZONE
TZID:Europe/Prague
BEGIN:DAYLIGHT
TZOFFSETFROM:-0500
TZOFFSETTO:-0400
DTSTART:1403086496
RRULE:FREQ=YEARLY;BYMONTH=3;BYDAY=2SU
TZNAME:EDT
END:DAYLIGHT
BEGIN:STANDARD
TZOFFSETFROM:-0400
TZOFFSETTO:-0500
DTSTART:1403086496
RRULE:FREQ=YEARLY;BYMONTH=11;BYDAY=1SU
TZNAME:EST
END:STANDARD
END:VTIMEZONE
BEGIN:VEVENT
DTSTART;TZID=Europe/Prague:20260425T000000
DTEND:20260425T235959
DTSTAMP:20260422T205423Z
LOCATION:Bělisko\, Pod Lipami\, Vochtánka (katastrální území Potštejn)
DESCRIPTION:Časový harmonogram:
Prezence 8:30 – 9:00
Porada rozhodčích\, nástup 9:00 – 9:30
Závod 9:30 – 13:00
Vyhodnocení 13:00 – 15:00
Nástup a vyhlášení výsledků 15:00 – 15:30
Přihlášky do 17. dubna na adresu pověřené T.J. Sokol Potštejn sokol.potstejn@seznam.cz
SUMMARY:Přebor župy v ZZZ 2026
UID:26839
SEQUENCE:0
END:VEVENT
END:VCALENDAR
