BEGIN:VCALENDAR
VERSION:2.0
PRODID:PHP
METHOD:PUBLISH
X-WR-CALNAME:Schedule
X-WR-TIMEZONE:Europe/Prague
BEGIN:VTIMEZONE
TZID:Europe/Prague
BEGIN:DAYLIGHT
TZOFFSETFROM:-0500
TZOFFSETTO:-0400
DTSTART:1403086496
RRULE:FREQ=YEARLY;BYMONTH=3;BYDAY=2SU
TZNAME:EDT
END:DAYLIGHT
BEGIN:STANDARD
TZOFFSETFROM:-0400
TZOFFSETTO:-0500
DTSTART:1403086496
RRULE:FREQ=YEARLY;BYMONTH=11;BYDAY=1SU
TZNAME:EST
END:STANDARD
END:VTIMEZONE
BEGIN:VEVENT
DTSTART;TZID=Europe/Prague:20260919T000000
DTEND:20260919T235959
DTSTAMP:20260422T190136Z
LOCATION:Muzeum Krkonošských řemesel manželů Pičmanových v Poniklé
DESCRIPTION:Tradiční soutěž o posvícenský koláč\, hodnocení vzhledu a chuti. Tvůrčí dílnička pro děti a ochutnávky dobrot z podzimní úrody. Podvečerní posezení při hudbě.
SUMMARY:Posvícení 2026
UID:26853
SEQUENCE:0
END:VEVENT
END:VCALENDAR
