BEGIN:VCALENDAR
VERSION:2.0
PRODID:PHP
METHOD:PUBLISH
X-WR-CALNAME:Schedule
X-WR-TIMEZONE:Europe/Prague
BEGIN:VTIMEZONE
TZID:Europe/Prague
BEGIN:DAYLIGHT
TZOFFSETFROM:-0500
TZOFFSETTO:-0400
DTSTART:1403086496
RRULE:FREQ=YEARLY;BYMONTH=3;BYDAY=2SU
TZNAME:EDT
END:DAYLIGHT
BEGIN:STANDARD
TZOFFSETFROM:-0400
TZOFFSETTO:-0500
DTSTART:1403086496
RRULE:FREQ=YEARLY;BYMONTH=11;BYDAY=1SU
TZNAME:EST
END:STANDARD
END:VTIMEZONE
BEGIN:VEVENT
DTSTART;TZID=Europe/Prague:20210924T000000
DTEND:20210924T235959
DTSTAMP:20260422T001103Z
LOCATION:Hodslavice 
DESCRIPTION:Tradiční orientační běh pořádaný pro děti ve 3 kategoriích - nejmladší děti - mladší žáci - starší žáci.  Cílem je splnit na trase připravené úkoly a v co nejkratším čase doběhnout do cíle. Odměněny budou všechny děti\, které trasu zvládnou :-)
SUMMARY:ORIENTAČNÍ BĚH pro děti
UID:1549
SEQUENCE:0
END:VEVENT
END:VCALENDAR
