BEGIN:VCALENDAR
VERSION:2.0
PRODID:PHP
METHOD:PUBLISH
X-WR-CALNAME:Schedule
X-WR-TIMEZONE:Europe/Prague
BEGIN:VTIMEZONE
TZID:Europe/Prague
BEGIN:DAYLIGHT
TZOFFSETFROM:-0500
TZOFFSETTO:-0400
DTSTART:1403086496
RRULE:FREQ=YEARLY;BYMONTH=3;BYDAY=2SU
TZNAME:EDT
END:DAYLIGHT
BEGIN:STANDARD
TZOFFSETFROM:-0400
TZOFFSETTO:-0500
DTSTART:1403086496
RRULE:FREQ=YEARLY;BYMONTH=11;BYDAY=1SU
TZNAME:EST
END:STANDARD
END:VTIMEZONE
BEGIN:VEVENT
DTSTART;TZID=Europe/Prague:20260206T000000
DTEND:20260222T235959
DTSTAMP:20260422T121254Z
LOCATION:Komárov\, Sokolská 230
DESCRIPTION:Po dobu zimních olympijských her bude na plotě sokolovny v Komárově připravena pro děti OLYMPIJSKÁ PLOTOVKA.
Čekají jednoduché úkoly a možná se dětí dozví i něco\, co ještě nevěděly.
SUMMARY:Olympijská plotovka
UID:26582
SEQUENCE:0
END:VEVENT
END:VCALENDAR
