BEGIN:VCALENDAR
VERSION:2.0
PRODID:PHP
METHOD:PUBLISH
X-WR-CALNAME:Schedule
X-WR-TIMEZONE:Europe/Prague
BEGIN:VTIMEZONE
TZID:Europe/Prague
BEGIN:DAYLIGHT
TZOFFSETFROM:-0500
TZOFFSETTO:-0400
DTSTART:1403086496
RRULE:FREQ=YEARLY;BYMONTH=3;BYDAY=2SU
TZNAME:EDT
END:DAYLIGHT
BEGIN:STANDARD
TZOFFSETFROM:-0400
TZOFFSETTO:-0500
DTSTART:1403086496
RRULE:FREQ=YEARLY;BYMONTH=11;BYDAY=1SU
TZNAME:EST
END:STANDARD
END:VTIMEZONE
BEGIN:VEVENT
DTSTART;TZID=Europe/Prague:20260508T000000
DTEND:20260508T235959
DTSTAMP:20260420T071519Z
LOCATION:Sokolské hřiště\, Nová Bělá
DESCRIPTION:
Zveme vás na tradiční pěší pochod Novobělská patnáctka\, který se uskuteční ve sváteční pátek 8. května. Přijďte si protáhnout nohy a užít si jarní procházku jižní Ostravou.
Na výběr jsou dvě trasy – 10 km a 15 km. Kratší trasa je vhodná pro všechny\, delší 15km trasa však není vhodná pro kočárky.
Start je ze Sokolského hřiště v Nové Bělé.Akce je určena pro malé i velké\, mladé i dříve narozené – zkrátka pro všechny\, kteří mají chuť vyrazit ven.
Těšíme se na vás!
Více informací naleznete na Turistika | TJ Sokol Nová Bělá

SUMMARY:Novobělská patnáctka | 47. ročník
UID:26464
SEQUENCE:0
END:VEVENT
END:VCALENDAR
