BEGIN:VCALENDAR
VERSION:2.0
PRODID:PHP
METHOD:PUBLISH
X-WR-CALNAME:Schedule
X-WR-TIMEZONE:Europe/Prague
BEGIN:VTIMEZONE
TZID:Europe/Prague
BEGIN:DAYLIGHT
TZOFFSETFROM:-0500
TZOFFSETTO:-0400
DTSTART:1403086496
RRULE:FREQ=YEARLY;BYMONTH=3;BYDAY=2SU
TZNAME:EDT
END:DAYLIGHT
BEGIN:STANDARD
TZOFFSETFROM:-0400
TZOFFSETTO:-0500
DTSTART:1403086496
RRULE:FREQ=YEARLY;BYMONTH=11;BYDAY=1SU
TZNAME:EST
END:STANDARD
END:VTIMEZONE
BEGIN:VEVENT
DTSTART;TZID=Europe/Prague:20220924T000000
DTEND:20220924T235959
DTSTAMP:20260422T132456Z
LOCATION:Na Zákopě 82\, Olomouc
DESCRIPTION:Sraz: 19:00 na hřišti T.J. Sokol Olomouc-Chválkovice\, (Na Zákopě 82)
cíl: bazilika navštívení Panny Marie na Sv. Kopečku (cca 4 km)\, výhledy na osvětlenou olomouc\, na baziliku\, na hvězdy.
Pro Účastníky je domluvena speciální noční prohlídka běžně nepřístupných nedávno zrestaurovaných historických sálů v pravém křídle baziliky. návrat: pěšky či mhd\, od 22:00 posezení s občerstvením u grilu v Sokolovně ve Chválkovicích. S sebou: vhodný sportovní oděv a obuv pro večerní procházku\, baterku. 
Parkování možné v ulici na zákopě či v blízkém okolí. Sociální zázemí\, občerstvení v sokolovně.
Každý účastník obdrží svítící náramek\, drobné upomínkové předměty vázané k projektu: Sokol Spolu v pohybu\, #BeActive #BeActiveNight
SUMMARY:Noční výlet z Olomouce na Svatý Kopeček 2022
UID:7152
SEQUENCE:0
END:VEVENT
END:VCALENDAR
