BEGIN:VCALENDAR
VERSION:2.0
PRODID:PHP
METHOD:PUBLISH
X-WR-CALNAME:Schedule
X-WR-TIMEZONE:Europe/Prague
BEGIN:VTIMEZONE
TZID:Europe/Prague
BEGIN:DAYLIGHT
TZOFFSETFROM:-0500
TZOFFSETTO:-0400
DTSTART:1403086496
RRULE:FREQ=YEARLY;BYMONTH=3;BYDAY=2SU
TZNAME:EDT
END:DAYLIGHT
BEGIN:STANDARD
TZOFFSETFROM:-0400
TZOFFSETTO:-0500
DTSTART:1403086496
RRULE:FREQ=YEARLY;BYMONTH=11;BYDAY=1SU
TZNAME:EST
END:STANDARD
END:VTIMEZONE
BEGIN:VEVENT
DTSTART;TZID=Europe/Prague:20220521T000000
DTEND:20220521T235959
DTSTAMP:20260422T121859Z
LOCATION:Karlovy Vary
DESCRIPTION:Dne 21.5.2022 se Sokolka Veronika Sedláčková\, zúčastnila akce Mattoni 1/2 Maraton Karlovy Vary s tímto výsledkem:
čas: 2:15:17
vzdálenost: 21\,44kma 
KCal : 1446
Motto:
Zvládneš celou vzdálenost? Tato událost je pro tebe. Připneš si startovní číslo a postavíš se na start. Zazní výstřel a za tónů Smetanovy Vltavy se vydáš na cestu za svým cílem.
SUMMARY:Matton 1/2Maraton Karlovy Vary 2022
UID:6258
SEQUENCE:0
END:VEVENT
END:VCALENDAR
