BEGIN:VCALENDAR
VERSION:2.0
PRODID:PHP
METHOD:PUBLISH
X-WR-CALNAME:Schedule
X-WR-TIMEZONE:Europe/Prague
BEGIN:VTIMEZONE
TZID:Europe/Prague
BEGIN:DAYLIGHT
TZOFFSETFROM:-0500
TZOFFSETTO:-0400
DTSTART:1403086496
RRULE:FREQ=YEARLY;BYMONTH=3;BYDAY=2SU
TZNAME:EDT
END:DAYLIGHT
BEGIN:STANDARD
TZOFFSETFROM:-0400
TZOFFSETTO:-0500
DTSTART:1403086496
RRULE:FREQ=YEARLY;BYMONTH=11;BYDAY=1SU
TZNAME:EST
END:STANDARD
END:VTIMEZONE
BEGIN:VEVENT
DTSTART;TZID=Europe/Prague:20260327T000000
DTEND:20260327T235959
DTSTAMP:20260420T051712Z
LOCATION:Sněhov 401
DESCRIPTION:Hudební uskupení METELESKU\, tombola.Vstup pouze ve společenskémVstupenky v predprodeji na tel. č. 605447035 a 608703383.Cena vstupenky 150 Kc.
SUMMARY:Jarní sokolský ples 2026
UID:26527
SEQUENCE:0
END:VEVENT
END:VCALENDAR
