BEGIN:VCALENDAR
VERSION:2.0
PRODID:PHP
METHOD:PUBLISH
X-WR-CALNAME:Schedule
X-WR-TIMEZONE:Europe/Prague
BEGIN:VTIMEZONE
TZID:Europe/Prague
BEGIN:DAYLIGHT
TZOFFSETFROM:-0500
TZOFFSETTO:-0400
DTSTART:1403086496
RRULE:FREQ=YEARLY;BYMONTH=3;BYDAY=2SU
TZNAME:EDT
END:DAYLIGHT
BEGIN:STANDARD
TZOFFSETFROM:-0400
TZOFFSETTO:-0500
DTSTART:1403086496
RRULE:FREQ=YEARLY;BYMONTH=11;BYDAY=1SU
TZNAME:EST
END:STANDARD
END:VTIMEZONE
BEGIN:VEVENT
DTSTART;TZID=Europe/Prague:20260301T000000
DTEND:20260301T235959
DTSTAMP:20260420T051335Z
LOCATION:sokolovna Příbram
DESCRIPTION:Nedělní odpoledne ihned po Šibřinkách tradičně patří dětem. Sejdeme se v 15:00 a užijeme si plno zábavy s tancem\, pohybem a krásnými maskami
SUMMARY:Dětský karneval - Fantasy
UID:26140
SEQUENCE:0
END:VEVENT
END:VCALENDAR
