BEGIN:VCALENDAR
VERSION:2.0
PRODID:PHP
METHOD:PUBLISH
X-WR-CALNAME:Schedule
X-WR-TIMEZONE:Europe/Prague
BEGIN:VTIMEZONE
TZID:Europe/Prague
BEGIN:DAYLIGHT
TZOFFSETFROM:-0500
TZOFFSETTO:-0400
DTSTART:1403086496
RRULE:FREQ=YEARLY;BYMONTH=3;BYDAY=2SU
TZNAME:EDT
END:DAYLIGHT
BEGIN:STANDARD
TZOFFSETFROM:-0400
TZOFFSETTO:-0500
DTSTART:1403086496
RRULE:FREQ=YEARLY;BYMONTH=11;BYDAY=1SU
TZNAME:EST
END:STANDARD
END:VTIMEZONE
BEGIN:VEVENT
DTSTART;TZID=Europe/Prague:20220927T000000
DTEND:20220927T235959
DTSTAMP:20260419T183807Z
LOCATION:Letní atletický stadion Nová Paka
DESCRIPTION:předpokládaná účast 90- 100 dětí\, 5 disciplín - skok\, hod sprint\, přakážky\, štafety
SUMMARY:Dětské podzimní atletické závody 
UID:6615
SEQUENCE:0
END:VEVENT
END:VCALENDAR
