BEGIN:VCALENDAR
VERSION:2.0
PRODID:PHP
METHOD:PUBLISH
X-WR-CALNAME:Schedule
X-WR-TIMEZONE:Europe/Prague
BEGIN:VTIMEZONE
TZID:Europe/Prague
BEGIN:DAYLIGHT
TZOFFSETFROM:-0500
TZOFFSETTO:-0400
DTSTART:1403086496
RRULE:FREQ=YEARLY;BYMONTH=3;BYDAY=2SU
TZNAME:EDT
END:DAYLIGHT
BEGIN:STANDARD
TZOFFSETFROM:-0400
TZOFFSETTO:-0500
DTSTART:1403086496
RRULE:FREQ=YEARLY;BYMONTH=11;BYDAY=1SU
TZNAME:EST
END:STANDARD
END:VTIMEZONE
BEGIN:VEVENT
DTSTART;TZID=Europe/Prague:20260428T000000
DTEND:20260428T235959
DTSTAMP:20260422T214611Z
LOCATION:T.J. Sokol Černošice\, Fugnerova 263\, 25228
DESCRIPTION:Tradiční akce určena pro děti všech věkových kategorií. Akce se koná na zahradě Sokola - děti v kostýmech čarodějnic a čarodějů plní různé úkoly\, sbírají razítka\, aby získaly odznak čarodějnice a odměnu. V druhé části odpoledne rozdělání ohně\, opékání buřtíků.
SUMMARY:Čarodějnice 2026
UID:25993
SEQUENCE:0
END:VEVENT
END:VCALENDAR
